BEGIN:VCALENDAR
VERSION:2.0
PRODID:-//MoANA - ECPv6.6.4//NONSGML v1.0//EN
CALSCALE:GREGORIAN
METHOD:PUBLISH
X-ORIGINAL-URL:https://moana.org
X-WR-CALDESC:Events for MoANA
REFRESH-INTERVAL;VALUE=DURATION:PT1H
X-Robots-Tag:noindex
X-PUBLISHED-TTL:PT1H
BEGIN:VTIMEZONE
TZID:America/Chicago
BEGIN:DAYLIGHT
TZOFFSETFROM:-0600
TZOFFSETTO:-0500
TZNAME:CDT
DTSTART:20240310T080000
END:DAYLIGHT
BEGIN:STANDARD
TZOFFSETFROM:-0500
TZOFFSETTO:-0600
TZNAME:CST
DTSTART:20241103T070000
END:STANDARD
END:VTIMEZONE
BEGIN:VEVENT
DTSTART;TZID=America/Chicago:20240405T183000
DTEND;TZID=America/Chicago:20240405T210000
DTSTAMP:20260425T091521
CREATED:20240208T200919Z
LAST-MODIFIED:20240305T074519Z
UID:3487-1712341800-1712350800@moana.org
SUMMARY:Stress Management for Health Professionals
DESCRIPTION:Preconference Wellness Workshop\nStress Management for Health Professionals\nSpeaker: Matthew Zinder\, MS\, CH\, CRNA; Owner\, Zinder Anesthesia\, LLC\n\n📅\nApril 5\, 2024\n🕡\n6:30 p.m. – 9:00 p.m.\n🌐\nRegister at EventBrite\n\nPrice for CRNA’s: $50 \n2.5 Class A CE \nFeatured Topics\n\nRecognize personal stressors and how they affect you\nPractice stress coping skills related to mindfulness\nQ&A Session\n\n\nSchedule\n\n6:30 – 8:30\nStress Management for Health Providers\n\n\n8:30 – 9:00\nQ & A Session\n\n\nEvent Flyer
URL:https://moana.org/event/stress-management-for-health-professionals/
LOCATION:Online Webinar
ORGANIZER;CN="Carol Kemna":MAILTO:ckemna@bardgett.net
END:VEVENT
BEGIN:VEVENT
DTSTART;TZID=America/Chicago:20240405T190000
DTEND;TZID=America/Chicago:20240407T120000
DTSTAMP:20260425T091521
CREATED:20230911T200046Z
LAST-MODIFIED:20230911T201303Z
UID:3236-1712343600-1712491200@moana.org
SUMMARY:MoANA Spring 2024 Virtual Meeting
DESCRIPTION:Save the date for MoANA’s Virtual Spring 2024 Meeting!\nApril 5-7
URL:https://moana.org/event/moana-spring-2024-virtual-meeting/
END:VEVENT
END:VCALENDAR