BEGIN:VCALENDAR
VERSION:2.0
PRODID:-//MoANA - ECPv6.6.4//NONSGML v1.0//EN
CALSCALE:GREGORIAN
METHOD:PUBLISH
X-ORIGINAL-URL:https://moana.org
X-WR-CALDESC:Events for MoANA
REFRESH-INTERVAL;VALUE=DURATION:PT1H
X-Robots-Tag:noindex
X-PUBLISHED-TTL:PT1H
BEGIN:VTIMEZONE
TZID:America/Chicago
BEGIN:DAYLIGHT
TZOFFSETFROM:-0600
TZOFFSETTO:-0500
TZNAME:CDT
DTSTART:20240310T080000
END:DAYLIGHT
BEGIN:STANDARD
TZOFFSETFROM:-0500
TZOFFSETTO:-0600
TZNAME:CST
DTSTART:20241103T070000
END:STANDARD
END:VTIMEZONE
BEGIN:VEVENT
DTSTART;TZID=America/Chicago:20240425T080000
DTEND;TZID=America/Chicago:20240425T170000
DTSTAMP:20260425T095805
CREATED:20240425T182203Z
LAST-MODIFIED:20240425T182203Z
UID:3562-1714032000-1714064400@moana.org
SUMMARY:MoANA Fall Meeting - Sept. 27-29\, 2024 at the Kansas City Downtown Marriott!
DESCRIPTION:Mark your calendars now to attend the MoANA Fall Meeting on September 27-29 at the Kansas City Marriott Downtown.  Don’t miss this opportunity to earn Class A CE and network with CRNAs and SRNAs/RRNAs from around the state.  Watch this site and your e-mail for more information!
URL:https://moana.org/event/moana-fall-meeting-sept-27-29-2024-at-the-kansas-city-downtown-marriott/
END:VEVENT
END:VCALENDAR